Package: GLAD Version: 2.71.0 Command: E:\biocbuild\bbs-3.21-bioc\R\bin\R.exe CMD check --no-multiarch --install=check:GLAD.install-out.txt --library=E:\biocbuild\bbs-3.21-bioc\R\library --no-vignettes --timings GLAD_2.71.0.tar.gz StartedAt: 2025-01-22 01:41:20 -0500 (Wed, 22 Jan 2025) EndedAt: 2025-01-22 01:42:23 -0500 (Wed, 22 Jan 2025) EllapsedTime: 63.8 seconds RetCode: 0 Status: WARNINGS CheckDir: GLAD.Rcheck Warnings: 2