Package: GLAD Version: 2.71.0 Command: E:\biocbuild\bbs-3.21-bioc\R\bin\R.exe CMD INSTALL GLAD StartedAt: 2025-02-09 15:20:28 -0500 (Sun, 09 Feb 2025) EndedAt: 2025-02-09 15:21:16 -0500 (Sun, 09 Feb 2025) EllapsedTime: 48.4 seconds RetCode: 1 Status: ERROR