Package: GNOSIS Version: 1.5.0 Command: rm -rf GNOSIS.buildbin-libdir && mkdir GNOSIS.buildbin-libdir && /Users/biocbuild/BBS/utils/build-universal.sh GNOSIS_1.5.0.tar.gz /Library/Frameworks/R.framework/Resources/bin/R GNOSIS.buildbin-libdir StartedAt: 2025-02-10 00:56:19 -0500 (Mon, 10 Feb 2025) EndedAt: 2025-02-10 00:57:48 -0500 (Mon, 10 Feb 2025) EllapsedTime: 89.0 seconds RetCode: 0 Status: OK PackageFile: GNOSIS_1.5.0.tgz PackageFileSize: 2.531 MiB