Package: GNOSIS Version: 1.5.0 Command: /Library/Frameworks/R.framework/Resources/bin/R CMD check --install=check:GNOSIS.install-out.txt --library=/Library/Frameworks/R.framework/Resources/library --no-vignettes --timings GNOSIS_1.5.0.tar.gz StartedAt: 2025-02-09 21:05:16 -0500 (Sun, 09 Feb 2025) EndedAt: 2025-02-09 21:13:01 -0500 (Sun, 09 Feb 2025) EllapsedTime: 465.4 seconds RetCode: 0 Status: WARNINGS CheckDir: GNOSIS.Rcheck Warnings: 1