Package: GNOSIS Version: 1.5.0 Command: /Library/Frameworks/R.framework/Resources/bin/R CMD INSTALL GNOSIS StartedAt: 2025-02-09 15:43:31 -0500 (Sun, 09 Feb 2025) EndedAt: 2025-02-09 15:44:56 -0500 (Sun, 09 Feb 2025) EllapsedTime: 84.8 seconds RetCode: 0 Status: OK