Package: GNOSIS Version: 1.5.0 Command: /home/biocbuild/bbs-3.21-bioc/R/bin/R CMD build --keep-empty-dirs --no-resave-data GNOSIS StartedAt: 2025-02-09 17:27:53 -0500 (Sun, 09 Feb 2025) EndedAt: 2025-02-09 17:29:15 -0500 (Sun, 09 Feb 2025) EllapsedTime: 82.0 seconds RetCode: 0 Status: OK PackageFile: GNOSIS_1.5.0.tar.gz PackageFileSize: 3.374 MiB