Package: GNOSIS Version: 1.5.0 Command: /home/biocbuild/bbs-3.21-bioc/R/bin/R CMD check --install=check:GNOSIS.install-out.txt --library=/home/biocbuild/bbs-3.21-bioc/R/site-library --timings GNOSIS_1.5.0.tar.gz StartedAt: 2025-02-03 22:56:36 -0500 (Mon, 03 Feb 2025) EndedAt: 2025-02-03 23:02:59 -0500 (Mon, 03 Feb 2025) EllapsedTime: 382.4 seconds RetCode: 0 Status: WARNINGS CheckDir: GNOSIS.Rcheck Warnings: 1