Package: GNOSIS Version: 1.5.0 Command: E:\biocbuild\bbs-3.21-bioc\R\bin\R.exe CMD INSTALL GNOSIS StartedAt: 2025-02-09 16:33:16 -0500 (Sun, 09 Feb 2025) EndedAt: 2025-02-09 16:34:45 -0500 (Sun, 09 Feb 2025) EllapsedTime: 88.8 seconds RetCode: 0 Status: OK