Package: GOfuncR Version: 1.27.0 Command: rm -rf GOfuncR.buildbin-libdir && mkdir GOfuncR.buildbin-libdir && /Users/biocbuild/BBS/utils/build-universal.sh GOfuncR_1.27.0.tar.gz /Library/Frameworks/R.framework/Resources/bin/R GOfuncR.buildbin-libdir StartedAt: 2025-02-09 22:16:26 -0500 (Sun, 09 Feb 2025) EndedAt: 2025-02-09 22:17:02 -0500 (Sun, 09 Feb 2025) EllapsedTime: 36.7 seconds RetCode: 0 Status: OK PackageFile: GOfuncR_1.27.0.tgz PackageFileSize: 4.331 MiB