Package: GOfuncR Version: 1.27.0 Command: /Library/Frameworks/R.framework/Resources/bin/R CMD INSTALL GOfuncR StartedAt: 2025-02-04 15:07:18 -0500 (Tue, 04 Feb 2025) EndedAt: 2025-02-04 15:07:52 -0500 (Tue, 04 Feb 2025) EllapsedTime: 33.6 seconds RetCode: 0 Status: OK