Package: GOfuncR Version: 1.27.0 Command: /Library/Frameworks/R.framework/Resources/bin/R CMD INSTALL GOfuncR StartedAt: 2025-02-04 15:13:02 -0500 (Tue, 04 Feb 2025) EndedAt: 2025-02-04 15:15:02 -0500 (Tue, 04 Feb 2025) EllapsedTime: 119.7 seconds RetCode: 0 Status: OK