Package: GOfuncR Version: 1.27.0 Command: rm -rf GOfuncR.buildbin-libdir && mkdir GOfuncR.buildbin-libdir && E:\biocbuild\bbs-3.21-bioc\R\bin\R.exe CMD INSTALL --build --library=GOfuncR.buildbin-libdir GOfuncR_1.27.0.tar.gz StartedAt: 2025-02-05 08:04:09 -0500 (Wed, 05 Feb 2025) EndedAt: 2025-02-05 08:06:18 -0500 (Wed, 05 Feb 2025) EllapsedTime: 129.7 seconds RetCode: 0 Status: OK PackageFile: GOfuncR_1.27.0.zip PackageFileSize: 4.193 MiB