Package: GOfuncR Version: 1.27.0 Command: chmod a+r GOfuncR -R && E:\biocbuild\bbs-3.21-bioc\R\bin\R.exe CMD build --keep-empty-dirs --no-resave-data GOfuncR StartedAt: 2025-02-04 19:04:42 -0500 (Tue, 04 Feb 2025) EndedAt: 2025-02-04 19:15:17 -0500 (Tue, 04 Feb 2025) EllapsedTime: 635.6 seconds RetCode: 0 Status: OK PackageFile: GOfuncR_1.27.0.tar.gz PackageFileSize: 4.737 MiB