Package: GOfuncR Version: 1.27.0 Command: E:\biocbuild\bbs-3.21-bioc\R\bin\R.exe CMD check --no-multiarch --install=check:GOfuncR.install-out.txt --library=E:\biocbuild\bbs-3.21-bioc\R\library --no-vignettes --timings GOfuncR_1.27.0.tar.gz StartedAt: 2025-02-05 02:06:55 -0500 (Wed, 05 Feb 2025) EndedAt: 2025-02-05 02:18:36 -0500 (Wed, 05 Feb 2025) EllapsedTime: 700.9 seconds RetCode: 0 Status: OK CheckDir: GOfuncR.Rcheck Warnings: 0