Package: GOfuncR Version: 1.27.0 Command: E:\biocbuild\bbs-3.21-bioc\R\bin\R.exe CMD INSTALL GOfuncR StartedAt: 2025-02-04 15:40:15 -0500 (Tue, 04 Feb 2025) EndedAt: 2025-02-04 15:44:23 -0500 (Tue, 04 Feb 2025) EllapsedTime: 248.8 seconds RetCode: 0 Status: OK