Package: GOpro Version: 1.33.0 Command: /Library/Frameworks/R.framework/Resources/bin/R CMD build --keep-empty-dirs --no-resave-data GOpro StartedAt: 2025-02-03 17:06:45 -0500 (Mon, 03 Feb 2025) EndedAt: 2025-02-03 17:07:11 -0500 (Mon, 03 Feb 2025) EllapsedTime: 26.3 seconds RetCode: 0 Status: OK PackageFile: GOpro_1.33.0.tar.gz PackageFileSize: 1.056 MiB