Package: GOpro Version: 1.33.0 Command: /Library/Frameworks/R.framework/Resources/bin/R CMD INSTALL GOpro StartedAt: 2025-02-03 15:43:33 -0500 (Mon, 03 Feb 2025) EndedAt: 2025-02-03 15:43:47 -0500 (Mon, 03 Feb 2025) EllapsedTime: 13.3 seconds RetCode: 0 Status: OK