Package: GOpro Version: 1.33.0 Command: /home/biocbuild/R/R/bin/R CMD build --keep-empty-dirs --no-resave-data GOpro StartedAt: 2025-01-28 23:18:54 -0000 (Tue, 28 Jan 2025) EndedAt: 2025-01-28 23:20:26 -0000 (Tue, 28 Jan 2025) EllapsedTime: 92.0 seconds RetCode: 0 Status: OK PackageFile: GOpro_1.33.0.tar.gz PackageFileSize: 836 KiB