Package: GOpro Version: 1.33.0 Command: /home/biocbuild/R/R/bin/R CMD check --install=check:GOpro.install-out.txt --library=/home/biocbuild/R/R/site-library --no-vignettes --timings GOpro_1.33.0.tar.gz StartedAt: 2025-01-28 11:12:11 -0000 (Tue, 28 Jan 2025) EndedAt: 2025-01-28 11:17:05 -0000 (Tue, 28 Jan 2025) EllapsedTime: 293.2 seconds RetCode: 0 Status: OK CheckDir: GOpro.Rcheck Warnings: 0