Package: GOpro Version: 1.33.0 Command: /home/biocbuild/R/R/bin/R CMD INSTALL GOpro StartedAt: 2025-01-29 19:47:39 -0000 (Wed, 29 Jan 2025) EndedAt: 2025-01-29 19:48:30 -0000 (Wed, 29 Jan 2025) EllapsedTime: 50.6 seconds RetCode: 0 Status: OK