Package: GOpro Version: 1.33.0 Command: rm -rf GOpro.buildbin-libdir && mkdir GOpro.buildbin-libdir && /Users/biocbuild/BBS/utils/build-universal.sh GOpro_1.33.0.tar.gz /Library/Frameworks/R.framework/Resources/bin/R GOpro.buildbin-libdir StartedAt: 2025-02-04 00:36:58 -0500 (Tue, 04 Feb 2025) EndedAt: 2025-02-04 00:37:49 -0500 (Tue, 04 Feb 2025) EllapsedTime: 51.1 seconds RetCode: 0 Status: OK PackageFile: GOpro_1.33.0.tgz PackageFileSize: 1.45 MiB