Package: GOpro Version: 1.33.0 Command: /Library/Frameworks/R.framework/Resources/bin/R CMD check --install=check:GOpro.install-out.txt --library=/Library/Frameworks/R.framework/Resources/library --no-vignettes --timings GOpro_1.33.0.tar.gz StartedAt: 2025-02-09 21:05:46 -0500 (Sun, 09 Feb 2025) EndedAt: 2025-02-09 21:10:10 -0500 (Sun, 09 Feb 2025) EllapsedTime: 264.0 seconds RetCode: 0 Status: OK CheckDir: GOpro.Rcheck Warnings: 0