Package: GOpro Version: 1.33.0 Command: /Library/Frameworks/R.framework/Resources/bin/R CMD INSTALL GOpro StartedAt: 2025-02-09 15:15:11 -0500 (Sun, 09 Feb 2025) EndedAt: 2025-02-09 15:15:58 -0500 (Sun, 09 Feb 2025) EllapsedTime: 47.5 seconds RetCode: 0 Status: OK