Package: GOpro Version: 1.33.0 Command: /home/biocbuild/bbs-3.21-bioc/R/bin/R CMD build --keep-empty-dirs --no-resave-data GOpro StartedAt: 2025-02-03 17:37:23 -0500 (Mon, 03 Feb 2025) EndedAt: 2025-02-03 17:38:27 -0500 (Mon, 03 Feb 2025) EllapsedTime: 64.0 seconds RetCode: 0 Status: OK PackageFile: GOpro_1.33.0.tar.gz PackageFileSize: 1.133 MiB