Package: GOpro Version: 1.33.0 Command: /home/biocbuild/bbs-3.21-bioc/R/bin/R CMD check --install=check:GOpro.install-out.txt --library=/home/biocbuild/bbs-3.21-bioc/R/site-library --timings GOpro_1.33.0.tar.gz StartedAt: 2025-02-09 22:49:48 -0500 (Sun, 09 Feb 2025) EndedAt: 2025-02-09 22:53:57 -0500 (Sun, 09 Feb 2025) EllapsedTime: 249.2 seconds RetCode: 0 Status: OK CheckDir: GOpro.Rcheck Warnings: 0