Package: GOpro Version: 1.33.0 Command: /home/biocbuild/bbs-3.21-bioc/R/bin/R CMD INSTALL GOpro StartedAt: 2025-02-03 15:53:11 -0500 (Mon, 03 Feb 2025) EndedAt: 2025-02-03 15:53:46 -0500 (Mon, 03 Feb 2025) EllapsedTime: 34.4 seconds RetCode: 0 Status: OK