Package: GOpro Version: 1.33.0 Command: rm -rf GOpro.buildbin-libdir && mkdir GOpro.buildbin-libdir && E:\biocbuild\bbs-3.21-bioc\R\bin\R.exe CMD INSTALL --build --library=GOpro.buildbin-libdir GOpro_1.33.0.tar.gz StartedAt: 2025-02-04 08:05:56 -0500 (Tue, 04 Feb 2025) EndedAt: 2025-02-04 08:06:40 -0500 (Tue, 04 Feb 2025) EllapsedTime: 44.7 seconds RetCode: 0 Status: OK PackageFile: GOpro_1.33.0.zip PackageFileSize: 1.451 MiB