Package: GOpro Version: 1.33.0 Command: chmod a+r GOpro -R && E:\biocbuild\bbs-3.21-bioc\R\bin\R.exe CMD build --keep-empty-dirs --no-resave-data GOpro StartedAt: 2025-02-09 19:02:27 -0500 (Sun, 09 Feb 2025) EndedAt: 2025-02-09 19:03:56 -0500 (Sun, 09 Feb 2025) EllapsedTime: 88.8 seconds RetCode: 0 Status: OK PackageFile: GOpro_1.33.0.tar.gz PackageFileSize: 774.1 KiB