Package: GOpro Version: 1.33.0 Command: E:\biocbuild\bbs-3.21-bioc\R\bin\R.exe CMD check --no-multiarch --install=check:GOpro.install-out.txt --library=E:\biocbuild\bbs-3.21-bioc\R\library --no-vignettes --timings GOpro_1.33.0.tar.gz StartedAt: 2025-02-10 01:39:50 -0500 (Mon, 10 Feb 2025) EndedAt: 2025-02-10 01:44:33 -0500 (Mon, 10 Feb 2025) EllapsedTime: 282.3 seconds RetCode: 0 Status: OK CheckDir: GOpro.Rcheck Warnings: 0