Package: GOstats Version: 2.73.0 Command: /Library/Frameworks/R.framework/Resources/bin/R CMD build --keep-empty-dirs --no-resave-data GOstats StartedAt: 2025-02-12 16:31:06 -0500 (Wed, 12 Feb 2025) EndedAt: 2025-02-12 16:35:52 -0500 (Wed, 12 Feb 2025) EllapsedTime: 285.9 seconds RetCode: 0 Status: OK PackageFile: GOstats_2.73.0.tar.gz PackageFileSize: 2.895 MiB