Package: GOstats Version: 2.73.0 Command: /Library/Frameworks/R.framework/Resources/bin/R CMD INSTALL GOstats StartedAt: 2025-02-09 15:20:21 -0500 (Sun, 09 Feb 2025) EndedAt: 2025-02-09 15:20:30 -0500 (Sun, 09 Feb 2025) EllapsedTime: 8.7 seconds RetCode: 0 Status: OK