Package: GOstats Version: 2.73.0 Command: /Library/Frameworks/R.framework/Resources/bin/R CMD build --keep-empty-dirs --no-resave-data GOstats StartedAt: 2025-02-09 16:57:14 -0500 (Sun, 09 Feb 2025) EndedAt: 2025-02-09 17:10:21 -0500 (Sun, 09 Feb 2025) EllapsedTime: 786.8 seconds RetCode: 0 Status: OK PackageFile: GOstats_2.73.0.tar.gz PackageFileSize: 2.895 MiB