Package: GOstats Version: 2.73.0 Command: /Library/Frameworks/R.framework/Resources/bin/R CMD check --install=check:GOstats.install-out.txt --library=/Library/Frameworks/R.framework/Resources/library --no-vignettes --timings GOstats_2.73.0.tar.gz StartedAt: 2025-02-12 20:54:35 -0500 (Wed, 12 Feb 2025) EndedAt: 2025-02-12 20:59:12 -0500 (Wed, 12 Feb 2025) EllapsedTime: 276.5 seconds RetCode: 0 Status: OK CheckDir: GOstats.Rcheck Warnings: 0