Package: GOstats Version: 2.73.0 Command: /home/biocbuild/bbs-3.21-bioc/R/bin/R CMD build --keep-empty-dirs --no-resave-data GOstats StartedAt: 2025-02-12 17:26:39 -0500 (Wed, 12 Feb 2025) EndedAt: 2025-02-12 17:51:44 -0500 (Wed, 12 Feb 2025) EllapsedTime: 1505.4 seconds RetCode: 0 Status: OK PackageFile: GOstats_2.73.0.tar.gz PackageFileSize: 3.533 MiB