Package: GPA Version: 1.19.0 Command: /home/biocbuild/bbs-3.21-bioc/R/bin/R CMD INSTALL GPA StartedAt: 2025-02-12 15:08:40 -0500 (Wed, 12 Feb 2025) EndedAt: 2025-02-12 15:08:55 -0500 (Wed, 12 Feb 2025) EllapsedTime: 15.3 seconds RetCode: 0 Status: OK