Package: GPA Version: 1.19.0 Command: rm -rf GPA.buildbin-libdir && mkdir GPA.buildbin-libdir && E:\biocbuild\bbs-3.21-bioc\R\bin\R.exe CMD INSTALL --build --library=GPA.buildbin-libdir GPA_1.19.0.tar.gz StartedAt: 2025-02-10 07:52:59 -0500 (Mon, 10 Feb 2025) EndedAt: 2025-02-10 07:53:32 -0500 (Mon, 10 Feb 2025) EllapsedTime: 33.1 seconds RetCode: 0 Status: OK PackageFile: GPA_1.19.0.zip PackageFileSize: 755.2 KiB