Package: GRENITS Version: 1.59.0 Command: /Library/Frameworks/R.framework/Resources/bin/R CMD INSTALL GRENITS StartedAt: 2025-02-09 15:06:11 -0500 (Sun, 09 Feb 2025) EndedAt: 2025-02-09 15:06:33 -0500 (Sun, 09 Feb 2025) EllapsedTime: 22.4 seconds RetCode: 0 Status: OK