Package: GRENITS Version: 1.59.0 Command: rm -rf GRENITS.buildbin-libdir && mkdir GRENITS.buildbin-libdir && /Users/biocbuild/BBS/utils/build-universal.sh GRENITS_1.59.0.tar.gz /Library/Frameworks/R.framework/Resources/bin/R GRENITS.buildbin-libdir StartedAt: 2025-02-10 00:56:48 -0500 (Mon, 10 Feb 2025) EndedAt: 2025-02-10 00:58:25 -0500 (Mon, 10 Feb 2025) EllapsedTime: 97.3 seconds RetCode: 0 Status: OK PackageFile: GRENITS_1.59.0.tgz PackageFileSize: 577.8 KiB