Package: GRENITS Version: 1.59.0 Command: /Library/Frameworks/R.framework/Resources/bin/R CMD build --keep-empty-dirs --no-resave-data GRENITS StartedAt: 2025-02-04 16:54:44 -0500 (Tue, 04 Feb 2025) EndedAt: 2025-02-04 16:56:15 -0500 (Tue, 04 Feb 2025) EllapsedTime: 91.2 seconds RetCode: 0 Status: OK PackageFile: GRENITS_1.59.0.tar.gz PackageFileSize: 267 KiB