Package: GRENITS Version: 1.59.0 Command: /Library/Frameworks/R.framework/Resources/bin/R CMD check --install=check:GRENITS.install-out.txt --library=/Library/Frameworks/R.framework/Resources/library --no-vignettes --timings GRENITS_1.59.0.tar.gz StartedAt: 2025-02-04 20:53:58 -0500 (Tue, 04 Feb 2025) EndedAt: 2025-02-04 20:57:44 -0500 (Tue, 04 Feb 2025) EllapsedTime: 226.1 seconds RetCode: 0 Status: OK CheckDir: GRENITS.Rcheck Warnings: 0