Package: GRENITS Version: 1.59.0 Command: /Library/Frameworks/R.framework/Resources/bin/R CMD INSTALL GRENITS StartedAt: 2025-02-04 15:08:53 -0500 (Tue, 04 Feb 2025) EndedAt: 2025-02-04 15:10:15 -0500 (Tue, 04 Feb 2025) EllapsedTime: 81.3 seconds RetCode: 0 Status: OK