Package: GRENITS Version: 1.59.0 Command: /home/biocbuild/bbs-3.21-bioc/R/bin/R CMD build --keep-empty-dirs --no-resave-data GRENITS StartedAt: 2025-02-04 17:28:50 -0500 (Tue, 04 Feb 2025) EndedAt: 2025-02-04 17:30:27 -0500 (Tue, 04 Feb 2025) EllapsedTime: 97.1 seconds RetCode: 0 Status: OK PackageFile: GRENITS_1.59.0.tar.gz PackageFileSize: 266.9 KiB