Package: GRENITS Version: 1.59.0 Command: chmod a+r GRENITS -R && E:\biocbuild\bbs-3.21-bioc\R\bin\R.exe CMD build --keep-empty-dirs --no-resave-data GRENITS StartedAt: 2025-02-09 19:05:07 -0500 (Sun, 09 Feb 2025) EndedAt: 2025-02-09 19:08:08 -0500 (Sun, 09 Feb 2025) EllapsedTime: 180.5 seconds RetCode: 0 Status: OK PackageFile: GRENITS_1.59.0.tar.gz PackageFileSize: 151.3 KiB