Package: GRENITS Version: 1.59.0 Command: E:\biocbuild\bbs-3.21-bioc\R\bin\R.exe CMD INSTALL GRENITS StartedAt: 2025-02-04 15:30:21 -0500 (Tue, 04 Feb 2025) EndedAt: 2025-02-04 15:32:17 -0500 (Tue, 04 Feb 2025) EllapsedTime: 115.7 seconds RetCode: 0 Status: OK