Package: GRaNIE Version: 1.11.0 Command: rm -rf GRaNIE.buildbin-libdir && mkdir GRaNIE.buildbin-libdir && /Users/biocbuild/BBS/utils/build-universal.sh GRaNIE_1.11.0.tar.gz /Library/Frameworks/R.framework/Resources/bin/R GRaNIE.buildbin-libdir StartedAt: 2025-02-10 00:56:34 -0500 (Mon, 10 Feb 2025) EndedAt: 2025-02-10 00:57:45 -0500 (Mon, 10 Feb 2025) EllapsedTime: 71.6 seconds RetCode: 0 Status: OK PackageFile: GRaNIE_1.11.0.tgz PackageFileSize: 9.296 MiB