Package: GRaNIE Version: 1.11.0 Command: rm -rf GRaNIE.buildbin-libdir && mkdir GRaNIE.buildbin-libdir && E:\biocbuild\bbs-3.21-bioc\R\bin\R.exe CMD INSTALL --build --library=GRaNIE.buildbin-libdir GRaNIE_1.11.0.tar.gz StartedAt: 2025-02-13 08:03:49 -0500 (Thu, 13 Feb 2025) EndedAt: 2025-02-13 08:05:19 -0500 (Thu, 13 Feb 2025) EllapsedTime: 90.4 seconds RetCode: 0 Status: OK PackageFile: GRaNIE_1.11.0.zip PackageFileSize: 4.651 MiB