Package: GRmetrics Version: 1.33.0 Command: /Library/Frameworks/R.framework/Resources/bin/R CMD INSTALL GRmetrics StartedAt: 2025-02-09 15:21:23 -0500 (Sun, 09 Feb 2025) EndedAt: 2025-02-09 15:21:32 -0500 (Sun, 09 Feb 2025) EllapsedTime: 9.2 seconds RetCode: 0 Status: OK