Package: GRmetrics Version: 1.33.0 Command: /home/biocbuild/R/R/bin/R CMD INSTALL GRmetrics StartedAt: 2025-01-29 20:19:42 -0000 (Wed, 29 Jan 2025) EndedAt: 2025-01-29 20:20:10 -0000 (Wed, 29 Jan 2025) EllapsedTime: 28.1 seconds RetCode: 0 Status: OK