Package: GRmetrics Version: 1.33.0 Command: /Library/Frameworks/R.framework/Resources/bin/R CMD INSTALL GRmetrics StartedAt: 2025-02-04 15:33:02 -0500 (Tue, 04 Feb 2025) EndedAt: 2025-02-04 15:33:30 -0500 (Tue, 04 Feb 2025) EllapsedTime: 27.7 seconds RetCode: 0 Status: OK