Package: GRmetrics Version: 1.33.0 Command: rm -rf GRmetrics.buildbin-libdir && mkdir GRmetrics.buildbin-libdir && E:\biocbuild\bbs-3.21-bioc\R\bin\R.exe CMD INSTALL --build --library=GRmetrics.buildbin-libdir GRmetrics_1.33.0.tar.gz StartedAt: 2025-02-10 07:53:29 -0500 (Mon, 10 Feb 2025) EndedAt: 2025-02-10 07:53:59 -0500 (Mon, 10 Feb 2025) EllapsedTime: 29.2 seconds RetCode: 0 Status: OK PackageFile: GRmetrics_1.33.0.zip PackageFileSize: 1.683 MiB